BEGIN:VCALENDAR
VERSION:2.0
PRODID:-//ChamberMaster//Event Calendar 2.0//EN
METHOD:PUBLISH
X-PUBLISHED-TTL:P3D
REFRESH-INTERVAL:P3D
CALSCALE:GREGORIAN
BEGIN:VEVENT
DTSTART:20191112T200000Z
DTEND:20191112T210000Z
X-MICROSOFT-CDO-ALLDAYEVENT:FALSE
SUMMARY:Pedernales Electric Cooperative Homeschool Program
DESCRIPTION:Homeschool Program: Building Circuits - Tuesday\, November 12th at 2pm - Become a circuit builder with host Pedernales Electric Cooperative! You'll to learn how to construct series\, parallel\, and switch circuits. This hands-on science presentation is open to all!
X-ALT-DESC;FMTTYPE=text/html:Homeschool Program: Building Circuits - Tuesday\, November 12th at 2pm - Become a circuit builder with host Pedernales Electric Cooperative! You&rsquo\;ll to learn how to construct series\, parallel\, and switch circuits. This hands-on science presentation is open to all!
LOCATION:Lake Travis Community Library 1938 Lohmans Crossing Austin\, TX 78734
UID:e.2123.10010
SEQUENCE:3
DTSTAMP:20260422T211335Z
URL:https://laketravischamberfest.com/events/details/pedernales-electric-cooperative-homeschool-program-10010
END:VEVENT

END:VCALENDAR
