BEGIN:VCALENDAR
VERSION:2.0
PRODID:-//ChamberMaster//Event Calendar 2.0//EN
METHOD:PUBLISH
X-PUBLISHED-TTL:P3D
REFRESH-INTERVAL:P3D
CALSCALE:GREGORIAN
BEGIN:VEVENT
DTSTART:20230503T140000Z
DTEND:20230503T150000Z
X-MICROSOFT-CDO-ALLDAYEVENT:FALSE
SUMMARY:Past Chairman's Council Meeting
DESCRIPTION:The Past Chairman's Council meeting is held once per quarter.  By invitation only.
X-ALT-DESC;FMTTYPE=text/html:<span style="font-size:20px\;">The Past Chairman&#39\;s Council meeting is held once per quarter.&nbsp\; By invitation only.</span>
LOCATION:
UID:e.2123.11747
SEQUENCE:3
DTSTAMP:20260423T053815Z
URL:https://laketravischamberfest.com/events/details/past-chairman-s-council-meeting-11747
END:VEVENT

END:VCALENDAR
