BEGIN:VCALENDAR
VERSION:2.0
PRODID:-//ChamberMaster//Event Calendar 2.0//EN
METHOD:PUBLISH
X-PUBLISHED-TTL:P3D
REFRESH-INTERVAL:P3D
CALSCALE:GREGORIAN
BEGIN:VEVENT
DTSTART:20190428T180000Z
DTEND:20190428T210000Z
X-MICROSOFT-CDO-ALLDAYEVENT:FALSE
SUMMARY:Passport to Tuscany
DESCRIPTION:Come See for Yourself or Bring Your Loved Ones for Wine\, Tuscan Treats\, Giveaways & Condo Tours. Join us for a Tuscan-inspired Open House at Lakeway's premier 55+ community. Our Lock & Leave condominiums are approaching 70% sold and limited time buyer incentives have just been released. We invite you to tour our unique floor plans\, explore Club Salus and meet our full-time Activities Director.
X-ALT-DESC;FMTTYPE=text/html:Come See for Yourself or Bring Your Loved Ones for Wine\, Tuscan Treats\, Giveaways &amp\; Condo Tours. Join us for a Tuscan-inspired Open House at Lakeway&rsquo\;s premier 55+ community. Our Lock &amp\; Leave condominiums are approaching 70% sold and limited time buyer incentives have just been released. We invite you to tour our unique floor plans\, explore Club Salus and meet our full-time Activities Director.
LOCATION:Tuscan Village Lakeway 106 Bella Toscan Ave. Lakeway\, TX 78734
UID:e.2123.9888
SEQUENCE:3
DTSTAMP:20260422T105809Z
URL:https://laketravischamberfest.com/events/details/passport-to-tuscany-9888
END:VEVENT

END:VCALENDAR
