BEGIN:VCALENDAR
VERSION:2.0
PRODID:-//ChamberMaster//Event Calendar 2.0//EN
METHOD:PUBLISH
X-PUBLISHED-TTL:P3D
REFRESH-INTERVAL:P3D
CALSCALE:GREGORIAN
BEGIN:VEVENT
DTSTART:20190822T230000Z
DTEND:20190823T010000Z
X-MICROSOFT-CDO-ALLDAYEVENT:FALSE
SUMMARY:Paella Cooking Class with Paellas Tapas and More
DESCRIPTION:Join us as we welcome Chef Fer Candil of Paellas\, Tapas & More for an authentic Spanish Paella cooking class! The demo will include a brief introduction about extra virgin olive oils & balsamic vinegars\, then Chef Fer will demonstrate the authentic Spanish paella below. This class is very interactive so be prepared to jump in and enjoy the class! Menu: - Paella Valenciana from scratch with seafood & chicken - Two Spanish Tapas - Ensalada with fresh vinaigrette - Homemade bread with olive oil - Virgin Spanish Sangria - Dessert
X-ALT-DESC;FMTTYPE=text/html:Join us as we welcome Chef Fer Candil of Paellas\, Tapas &amp\; More for an authentic Spanish Paella cooking class! The demo will include a brief introduction about extra virgin olive oils &amp\; balsamic vinegars\, then Chef Fer will demonstrate the authentic Spanish paella below. This class is very interactive so be prepared to jump in and enjoy the class! Menu: - Paella Valenciana from scratch with seafood &amp\; chicken - Two Spanish Tapas - Ensalada with fresh vinaigrette - Homemade bread with olive oil - Virgin Spanish Sangria - Dessert
LOCATION:Con' Olio Bee Cave 3500 Ranch Road 620 S\, Ste F-400 Bee Cave\, Texas 78738
UID:e.2123.9959
SEQUENCE:3
DTSTAMP:20260422T165435Z
URL:https://laketravischamberfest.com/events/details/paella-cooking-class-with-paellas-tapas-and-more-9959
END:VEVENT

END:VCALENDAR
