BEGIN:VCALENDAR
VERSION:2.0
PRODID:-//ChamberMaster//Event Calendar 2.0//EN
METHOD:PUBLISH
X-PUBLISHED-TTL:P3D
REFRESH-INTERVAL:P3D
CALSCALE:GREGORIAN
BEGIN:VEVENT
DTSTART:20191024T230000Z
DTEND:20191025T010000Z
X-MICROSOFT-CDO-ALLDAYEVENT:FALSE
SUMMARY:Paella Cooking Class w Paella's Tapas and More-Bee Cave
DESCRIPTION:Join us as we welcome Chef Fer Candil of Paellas\, Tapas & More for an authentic Spanish Paella cooking class! The demo will include a brief introduction about extra virgin olive oils & balsamic vinegars\, then Chef Fer will demonstrate the authentic Spanish paella below. This class is very interactive so be prepared to jump in and enjoy the class! Menu: - Paella Valenciana from scratch with seafood & chicken - Two Spanish Tapas - Ensalada with fresh vinaigrette - Homemade bread with olive oil - Virgin Spanish Sangria - Dessert
X-ALT-DESC;FMTTYPE=text/html:Join us as we welcome Chef Fer Candil of Paellas\, Tapas &amp\; More for an authentic Spanish Paella cooking class! The demo will include a brief introduction about extra virgin olive oils &amp\; balsamic vinegars\, then Chef Fer will demonstrate the authentic Spanish paella below. This class is very interactive so be prepared to jump in and enjoy the class! Menu: - Paella Valenciana from scratch with seafood &amp\; chicken - Two Spanish Tapas - Ensalada with fresh vinaigrette - Homemade bread with olive oil - Virgin Spanish Sangria - Dessert
LOCATION:3500 FM 620 S Ste F400\, Ste F400\, Bee Cave\, TX 78738
UID:e.2123.9977
SEQUENCE:3
DTSTAMP:20260422T194839Z
URL:https://laketravischamberfest.com/events/details/paella-cooking-class-w-paella-s-tapas-and-more-bee-cave-9977
END:VEVENT

END:VCALENDAR
