BEGIN:VCALENDAR
VERSION:2.0
PRODID:-//ChamberMaster//Event Calendar 2.0//EN
METHOD:PUBLISH
X-PUBLISHED-TTL:P3D
REFRESH-INTERVAL:P3D
CALSCALE:GREGORIAN
BEGIN:VEVENT
DTSTART:20200131T003000Z
DTEND:20200131T023000Z
X-MICROSOFT-CDO-ALLDAYEVENT:FALSE
SUMMARY:Paella Cooking Class w Paella's Tapas and More
DESCRIPTION:Join us as we welcome Chef Fer Candil of Paellas\, Tapas & More for an authentic Spanish Paella cooking class! This is one of our most popular classes at Con' Olio and perfect for a date night\, girls night\, educational night out or group event.  The interactive class will include a brief introduction about extra virgin olive oils & balsamic vinegars then Chef Fer will demonstrate the authentic spanish recipes below. This class is very interactive so be prepared to jump in and enjoy the class! Also guests will enjoy eating all of the delicious recipes made.
X-ALT-DESC;FMTTYPE=text/html:Join us as we welcome Chef Fer Candil of Paellas\, Tapas &amp\; More for an authentic Spanish Paella cooking class! This is one of our most popular classes at Con&#39\; Olio and perfect for a date night\, girls night\, educational night out or group event.&nbsp\; The interactive class will include a brief introduction about extra virgin olive oils &amp\; balsamic vinegars then Chef Fer will demonstrate the authentic spanish recipes below. This class is very interactive so be prepared to jump in and enjoy the class! Also guests will enjoy eating all of the delicious recipes made.&nbsp\;
LOCATION:3500 Ranch Road 620 S\, Ste F400 78738
UID:e.2123.10052
SEQUENCE:3
DTSTAMP:20260423T003831Z
URL:https://laketravischamberfest.com/events/details/paella-cooking-class-w-paella-s-tapas-and-more-01-30-2020-10052
END:VEVENT

END:VCALENDAR
