BEGIN:VCALENDAR
VERSION:2.0
PRODID:-//ChamberMaster//Event Calendar 2.0//EN
METHOD:PUBLISH
X-PUBLISHED-TTL:P3D
REFRESH-INTERVAL:P3D
CALSCALE:GREGORIAN
BEGIN:VEVENT
DTSTART:20230112T223000Z
DTEND:20230112T233000Z
X-MICROSOFT-CDO-ALLDAYEVENT:FALSE
SUMMARY:ORIS Dental Ribbon Cutting
DESCRIPTION:Join us in welcoming ORIS Dental Studio to the Lake Travis area with their ribbon cutting ceremony! \n\n \n\nLEARN MORE: https://orisdentalstudio.com/
X-ALT-DESC;FMTTYPE=text/html:<p style="margin: 0px\; padding: 0px\; caret-color: rgb(87\, 87\, 87)\; color: rgb(87\, 87\, 87)\; font-family: Helvetica\, Arial\, sans-serif\; font-size: 18px\; white-space: pre-wrap\;"><span style="color: rgb(5\, 5\, 5)\;">Join us in welcoming ORIS Dental Studio to the Lake Travis area with their ribbon cutting ceremony! </span></p>\n\n<p style="margin: 0px\; padding: 0px\; caret-color: rgb(87\, 87\, 87)\; color: rgb(87\, 87\, 87)\; font-family: Helvetica\, Arial\, sans-serif\; font-size: 18px\; white-space: pre-wrap\;">&nbsp\;</p>\n\n<p style="margin: 0px\; padding: 0px\; caret-color: rgb(87\, 87\, 87)\; color: rgb(87\, 87\, 87)\; font-family: Helvetica\, Arial\, sans-serif\; font-size: 18px\; white-space: pre-wrap\;"><span style="color: rgb(34\, 34\, 34)\; font-family: Arial\, Verdana\, Helvetica\, sans-serif\; font-size: 13px\;">LEARN MORE:&nbsp\;</span><a href="https://orisdentalstudio.com/" style="color: rgb(17\, 85\, 204)\; font-family: Arial\, Verdana\, Helvetica\, sans-serif\;" target="_blank">https://orisdentalstudio.com/</a></p>\n
LOCATION:LOCATION: 18101 State Hwy 71 Suite 100\, Austin\, TX 78738
UID:e.2123.11689
SEQUENCE:3
DTSTAMP:20260423T113105Z
URL:https://laketravischamberfest.com/events/details/oris-dental-ribbon-cutting-11689
END:VEVENT

END:VCALENDAR
