BEGIN:VCALENDAR
VERSION:2.0
PRODID:-//ChamberMaster//Event Calendar 2.0//EN
METHOD:PUBLISH
X-PUBLISHED-TTL:P3D
REFRESH-INTERVAL:P3D
CALSCALE:GREGORIAN
BEGIN:VEVENT
DTSTART:20181017T210000Z
DTEND:20181018T000000Z
X-MICROSOFT-CDO-ALLDAYEVENT:FALSE
SUMMARY:Optima Dental Implant Center Grand Opening
DESCRIPTION:Drs. Kris Owens and Marshall Morgan announce the grand opening of Optima Dental Implant Center in Lakeway!
X-ALT-DESC;FMTTYPE=text/html:Drs. Kris Owens and Marshall Morgan announce the grand opening of Optima Dental Implant Center in Lakeway!
LOCATION:Optima Dental Implant Center 1213 RR 620 South\, Ste 205 Lakeway\, TX 78734
UID:e.2123.9736
SEQUENCE:3
DTSTAMP:20260422T011009Z
URL:https://laketravischamberfest.com/events/details/optima-dental-implant-center-grand-opening-9736
END:VEVENT

END:VCALENDAR
