BEGIN:VCALENDAR
VERSION:2.0
PRODID:-//ChamberMaster//Event Calendar 2.0//EN
METHOD:PUBLISH
X-PUBLISHED-TTL:P3D
REFRESH-INTERVAL:P3D
CALSCALE:GREGORIAN
BEGIN:VEVENT
DTSTART:20190504T160000Z
DTEND:20190504T200000Z
X-MICROSOFT-CDO-ALLDAYEVENT:FALSE
SUMMARY:Playful Color: Show and Live Demos
DESCRIPTION:These three artist come together to create a fun and colorful collection of artwork\, featuring contemporary western themes and unique animal likenesses.\n\nLive in Gallery Demos with Jill Pankey and Bob Pankey Saturday May 4th 11am - 3pm\n\n\n\nLive in Gallery Demo with Tim Vanya Saturday May 11th 11am - 3pm\n\n\n\nJill Pankey has established herself as an artist locally and in South Texas\, particularly in the Coastal Bend area. She is still influenced by her roots on the Texas/ Mexican border town of Del Rio\, where she grew up. She has always been drawn to rich vibrant color while incorporating them into her observations about life. Her day job was teaching as a Senior Lecturer at Texas State University in the School of Art and Design in San Marcos\, TX. For many years she taught figure drawing\, basic drawing\, painting and foundation classes. As of 2014\, her dream and now full-time job is painting. \n\nBob Pankey feels he's been creative all his life. In painting\, he originally worked with graphite and ink mediums\, but began to work in color after years of travel and developing the direction in which he wanted his work to grow.Robert enjoyss painting wildlife beause his observation of animals challenges him to explore their essence through color. In his current oil paintings\, he has found that everything becomes a passionate response to the canvas. Robert uses a unique approach in his oil paintings and use bright expressive color and exaggerated brush strokes and his paintings are meant to capture the subjects with spontaneity\, exploration and personal expression.\n\nTim Vanya has been oil painting since 2000\, having spent the previous thirty years devoted to highly refined graphite renderings. His career has not always followed the "Way of the Artist"\; he was a veteran Law Enforcement Officer in Houston\, TX.\, delivery boat crew\, cabinet maker\, wood carver\, philosopher and observer of life. He and his wife Kathy now make their home in the rural community of Somerville in central Texas. They live close to their two children. Their 100+ year old home is close to the cattle\, horses\, ranches and cowboys he loves to portray.\n\nExhibit on Display May 3rd- 31st\, All artwork available for purchase.
X-ALT-DESC;FMTTYPE=text/html:<p style="text-align:left"><strong><span style="font-family:arial\,sans-serif"><span style="font-size:medium">These three artist come together to create a fun and colorful collection of artwork\, featuring contemporary western themes and unique animal likenesses.</span></span></strong></p>\n\n<p style="text-align:start"><span style="color:#B22222"><span style="font-size:16px"><strong><span style="font-family:arial\,sans-serif">Live in Gallery Demos with Jill Pankey and Bob Pankey Saturday May 4th 11am - 3pm</span><br />\n<br />\nLive in Gallery Demo with Tim Vanya Saturday May 11th 11am - 3pm</strong></span></span><br />\n<br />\n<span style="color:rgb(0\, 0\, 0)\; font-size:small"><span style="font-family:arial\,sans-serif"><strong>Jill Pankey</strong>&nbsp\;has established herself as an artist locally and in South Texas\, particularly in the Coastal Bend area. She is still influenced by her roots on the Texas/ Mexican border town of Del Rio\, where she grew up. She has always been drawn to rich vibrant color while incorporating them into her observations about life. Her day job was teaching as a Senior Lecturer at Texas State University in the School of Art and Design in San Marcos\, TX. For many years she taught figure drawing\, basic drawing\, painting and foundation classes. As of 2014\, her dream and now full-time job is painting.&nbsp\;</span></span></p>\n\n<p style="text-align:start"><span style="color:rgb(0\, 0\, 0)\; font-size:small"><span style="font-family:arial\,sans-serif"><strong>Bob Pankey</strong>&nbsp\;feels he&#39\;s been creative all his life. In painting\, he originally worked with graphite and ink mediums\, but began to work in color after years of travel and developing the direction in which he wanted his work to grow.Robert enjoyss painting wildlife beause his observation of animals challenges him to explore their essence through color. In his current oil paintings\, he has found that everything becomes a passionate response to the canvas.&nbsp\;Robert uses a unique approach in his&nbsp\;oil paintings and use bright expressive color and&nbsp\;exaggerated brush strokes and his paintings are meant to capture the subjects with spontaneity\, exploration and personal expression.</span></span></p>\n\n<p style="text-align:start"><span style="font-family:arial\,sans-serif\; font-size:small"><strong>Tim Vanya</strong>&nbsp\;has been oil painting since 2000\, having spent the previous thirty years devoted to highly refined graphite renderings. His career has not always followed the &quot\;Way of the Artist&quot\;\; he was a veteran Law Enforcement Officer in Houston\, TX.\, delivery boat crew\, cabinet maker\, wood carver\, philosopher and observer of life. He and his wife Kathy now make their home in the rural community of Somerville in central Texas. They live close to their two children. Their 100+ year old home is close to the cattle\, horses\, ranches and cowboys he loves to portray.</span></p>\n\n<p style="text-align:left">Exhibit on Display May 3rd- 31st\, All artwork&nbsp\;available for purchase.</p>\n
LOCATION:Russell Art & Frame The Oaks at Lakeway 1516 RR 620 South\, Suite 120 Lakeway\, Texas 78734
UID:e.2123.9882
SEQUENCE:3
DTSTAMP:20260422T121525Z
URL:https://laketravischamberfest.com/events/details/opening-reception-playful-color-9882
END:VEVENT

END:VCALENDAR
