BEGIN:VCALENDAR
VERSION:2.0
PRODID:-//ChamberMaster//Event Calendar 2.0//EN
METHOD:PUBLISH
X-PUBLISHED-TTL:P3D
REFRESH-INTERVAL:P3D
CALSCALE:GREGORIAN
BEGIN:VEVENT
DTSTART:20181110T170000Z
DTEND:20181110T200000Z
X-MICROSOFT-CDO-ALLDAYEVENT:FALSE
SUMMARY:Open House Brunch
DESCRIPTION:Open House Brunch Saturday\, November 10\, 2018 11-2 PM Belmont Village Lakeway 107 Bella Montagna Circle Lakeway\, Texas\, 78734 Belmont Village residents cordially invite you to an open house and brunch in our new home. We Re opening our private apartments for an exclusive tour\, followed by a fall brunch in Josephine's Kitchen\, specially prepared by our chef. If you're searching for the right senior living community to call home\, join us to learn more about our Belmont Village experience. We look forward to meeting you! RSVP to Christy or David @ 512-402-1800
X-ALT-DESC;FMTTYPE=text/html:Open House Brunch Saturday\, November 10\, 2018 11-2 PM Belmont Village Lakeway 107 Bella Montagna Circle Lakeway\, Texas\, 78734 Belmont Village residents cordially invite you to an open house and brunch in our new home. We Re opening our private apartments for an exclusive tour\, followed by a fall brunch in Josephine&rsquo\;s Kitchen\, specially prepared by our chef. If you&rsquo\;re searching for the right senior living community to call home\, join us to learn more about our Belmont Village experience. We look forward to meeting you! RSVP to Christy or David @ 512-402-1800
LOCATION:Belmont Village Lakeway 107 Bella Montagna Circle Lakeway\, Texas\, 78734
UID:e.2123.9763
SEQUENCE:3
DTSTAMP:20260422T024233Z
URL:https://laketravischamberfest.com/events/details/open-house-brunch-9763
END:VEVENT

END:VCALENDAR
