BEGIN:VCALENDAR
VERSION:2.0
PRODID:-//ChamberMaster//Event Calendar 2.0//EN
METHOD:PUBLISH
X-PUBLISHED-TTL:P3D
REFRESH-INTERVAL:P3D
CALSCALE:GREGORIAN
BEGIN:VEVENT
DTSTART;VALUE=DATE:20201220
DTEND;VALUE=DATE:20201227
TRANSP:TRANSPARENT
X-MICROSOFT-CDO-ALLDAYEVENT:TRUE
SUMMARY:Open Air Resorts Christmas Festivities
DESCRIPTION:Open Air Resorts is providing Central Texans a safe\, fun and festive way to celebrate the holidays with socially-distant special events for the whole family\, including: RV Site Decoration Contest: To light up the campgrounds\, guests are encouraged to get festive by decorating their RV sites for Christmas upon arrival\, with a "Best Decorated RV" winner receiving a special prize pack on Christmas Eve. Holiday Treats: The resort will have free s'mores kits available for families to use by request\, and on Christmas Eve\, families can partake in a socially distant Christmas cookie decorating session in the lounge as they watch a special tree lighting by the pond. Festive Films: On Christmas Day\, families can bundle up together and enjoy Christmas themed movies on the lawn.
X-ALT-DESC;FMTTYPE=text/html:Open Air Resorts is providing Central Texans a safe\, fun and festive way to celebrate the holidays with socially-distant special events for the whole family\, including: RV Site Decoration Contest: To light up the campgrounds\, guests are encouraged to get festive by decorating their RV sites for Christmas upon arrival\, with a &ldquo\;Best Decorated RV&rdquo\; winner receiving a special prize pack on Christmas Eve. Holiday Treats: The resort will have free s&#39\;mores kits available for families to use by request\, and on Christmas Eve\, families can partake in a socially distant Christmas cookie decorating session in the lounge as they watch a special tree lighting by the pond. Festive Films: On Christmas Day\, families can bundle up together and enjoy Christmas themed movies on the lawn.
LOCATION:25928 Haynie Flat Rd\, Spicewood\, TX 78669
UID:e.2123.10305
SEQUENCE:3
DTSTAMP:20260423T164507Z
URL:https://laketravischamberfest.com/events/details/open-air-resorts-christmas-festivities-10305
END:VEVENT

END:VCALENDAR
