BEGIN:VCALENDAR
VERSION:2.0
PRODID:-//ChamberMaster//Event Calendar 2.0//EN
METHOD:PUBLISH
X-PUBLISHED-TTL:P3D
REFRESH-INTERVAL:P3D
CALSCALE:GREGORIAN
BEGIN:VEVENT
DTSTART:20200709T190000Z
DTEND:20200709T200000Z
X-MICROSOFT-CDO-ALLDAYEVENT:FALSE
SUMMARY:Online: Singing Zoologist Lucas Miller
DESCRIPTION:Calling all animal lovers! Learn\, laugh\, groove\, and sing in a live-streamed performance with Austin's own "singing zoologist\," Lucas Miller! We'll celebrate frogs\, birds\, wildcats\, swamps\, bats\, and more with rockin' tunes\, zany humor\, and dazzling images and videos. Best of all\, YOU can be IN the show via Zoom! So bring your favorite cuddly critter and your craziest dance moves and we'll have a "WILD" time! Please follow the link below to register for the program. After filling out the short form with your name and email address\, the Zoom link will be emailed to you. For security\, we ask that your link not be shared with others. https://laketravislibrary.org/ai1ec-event/online-singing-zoologist-lucas-miller/?instance_id=18754
X-ALT-DESC;FMTTYPE=text/html:Calling all animal lovers! Learn\, laugh\, groove\, and sing in a live-streamed performance with Austin&rsquo\;s own &ldquo\;singing zoologist\,&rdquo\; Lucas Miller! We&rsquo\;ll celebrate frogs\, birds\, wildcats\, swamps\, bats\, and more with rockin&rsquo\; tunes\, zany humor\, and dazzling images and videos. Best of all\, YOU can be IN the show via Zoom! So bring your favorite cuddly critter and your craziest dance moves and we&rsquo\;ll have a &ldquo\;WILD&rdquo\; time! Please follow the link below to register for the program. After filling out the short form with your name and email address\, the Zoom link will be emailed to you. For security\, we ask that your link not be shared with others. https://laketravislibrary.org/ai1ec-event/online-singing-zoologist-lucas-miller/?instance_id=18754
LOCATION:Virtual Event with Lake Travis Community Library and Bee Cave Public LIbrary
UID:e.2123.10127
SEQUENCE:3
DTSTAMP:20260423T091039Z
URL:https://laketravischamberfest.com/events/details/online-singing-zoologist-lucas-miller-10127
END:VEVENT

END:VCALENDAR
