BEGIN:VCALENDAR
VERSION:2.0
PRODID:-//ChamberMaster//Event Calendar 2.0//EN
METHOD:PUBLISH
X-PUBLISHED-TTL:P3D
REFRESH-INTERVAL:P3D
CALSCALE:GREGORIAN
BEGIN:VEVENT
DTSTART:20200625T190000Z
DTEND:20200625T200000Z
X-MICROSOFT-CDO-ALLDAYEVENT:FALSE
SUMMARY:Online: Silly Sparkles
DESCRIPTION:Join Silly Sparkles for a live treasure hunt with the help of mermaids and pirates. Between the silly puppets\, ridiculous balloons\, and fantastic magic\, you'll be laughing and amazed till the giant balloon finale. Please follow the link below to register for the program. After filling out the short form with your name and email address\, the Zoom link will be emailed to you. For security\, we ask that your link not be shared with others. https://laketravislibrary.org/ai1ec-event/online-silly-sparkles/?instance_id=18752
X-ALT-DESC;FMTTYPE=text/html:Join Silly Sparkles for a live treasure hunt with the help of mermaids and pirates. Between the silly puppets\, ridiculous balloons\, and fantastic magic\, you&rsquo\;ll be laughing and amazed till the giant balloon finale. Please follow the link below to register for the program. After filling out the short form with your name and email address\, the Zoom link will be emailed to you. For security\, we ask that your link not be shared with others. https://laketravislibrary.org/ai1ec-event/online-silly-sparkles/?instance_id=18752
LOCATION:Virtual Event with the Lake Travis Community Library and Bee Cave Public Library
UID:e.2123.10125
SEQUENCE:3
DTSTAMP:20260423T072608Z
URL:https://laketravischamberfest.com/events/details/online-silly-sparkles-10125
END:VEVENT

END:VCALENDAR
