BEGIN:VCALENDAR
VERSION:2.0
PRODID:-//ChamberMaster//Event Calendar 2.0//EN
METHOD:PUBLISH
X-PUBLISHED-TTL:P3D
REFRESH-INTERVAL:P3D
CALSCALE:GREGORIAN
BEGIN:VEVENT
DTSTART:20200716T190000Z
DTEND:20200716T200000Z
X-MICROSOFT-CDO-ALLDAYEVENT:FALSE
SUMMARY:Online: Musician Mr. Will
DESCRIPTION:Whether it's encouraging toddlers to jump around and shout out their favorite mode of transportation (Excavator!)\, or getting couples to two-step while singing along to original Americana tunes\, "Mr. Will" has energized crowds for two decades with lively toe-tapping\, and often interactive\, music. Please follow the link below to register for the program. After filling out the short form with your name and email address\, the Zoom link will be emailed to you. For security\, we ask that your link not be shared with others. https://laketravislibrary.org/ai1ec-event/online-musician-mr-will/?instance_id=18755
X-ALT-DESC;FMTTYPE=text/html:Whether it&rsquo\;s encouraging toddlers to jump around and shout out their favorite mode of transportation (Excavator!)\, or getting couples to two-step while singing along to original Americana tunes\, &ldquo\;Mr. Will&rdquo\; has energized crowds for two decades with lively toe-tapping\, and often interactive\, music. Please follow the link below to register for the program. After filling out the short form with your name and email address\, the Zoom link will be emailed to you. For security\, we ask that your link not be shared with others. https://laketravislibrary.org/ai1ec-event/online-musician-mr-will/?instance_id=18755
LOCATION:Virtual event with the Lake Travis Community Library and Bee Cave Public Libray
UID:e.2123.10128
SEQUENCE:3
DTSTAMP:20260423T090953Z
URL:https://laketravischamberfest.com/events/details/online-musician-mr-will-10128
END:VEVENT

END:VCALENDAR
