BEGIN:VCALENDAR
VERSION:2.0
PRODID:-//ChamberMaster//Event Calendar 2.0//EN
METHOD:PUBLISH
X-PUBLISHED-TTL:P3D
REFRESH-INTERVAL:P3D
CALSCALE:GREGORIAN
BEGIN:VEVENT
DTSTART:20200730T190000Z
DTEND:20200730T200000Z
X-MICROSOFT-CDO-ALLDAYEVENT:FALSE
SUMMARY:Online: Magician John O’Bryant
DESCRIPTION:Tune in for a live magical experience. This show is filled with amazing magic\, audience interaction\, giveaways\, and even a chance to learn a magic segment! Fun for all ages. Please follow the link below to register for the program. After filling out the short form with your name and email address\, the Zoom link will be emailed to you. For security\, we ask that your link not be shared with others. https://laketravislibrary.org/ai1ec-event/online-magician-john-obryant/?instance_id=18757
X-ALT-DESC;FMTTYPE=text/html:Tune in for a live magical experience. This show is filled with amazing magic\, audience interaction\, giveaways\, and even a chance to learn a magic segment! Fun for all ages. Please follow the link below to register for the program. After filling out the short form with your name and email address\, the Zoom link will be emailed to you. For security\, we ask that your link not be shared with others. https://laketravislibrary.org/ai1ec-event/online-magician-john-obryant/?instance_id=18757
LOCATION:This is a virtual event with Lake Travis Community Library and Bee Cave Public Library.
UID:e.2123.10130
SEQUENCE:3
DTSTAMP:20260423T091016Z
URL:https://laketravischamberfest.com/events/details/online-magician-john-o-bryant-10130
END:VEVENT

END:VCALENDAR
