BEGIN:VCALENDAR
VERSION:2.0
PRODID:-//ChamberMaster//Event Calendar 2.0//EN
METHOD:PUBLISH
X-PUBLISHED-TTL:P3D
REFRESH-INTERVAL:P3D
CALSCALE:GREGORIAN
BEGIN:VEVENT
DTSTART:20200702T190000Z
DTEND:20200702T200000Z
X-MICROSOFT-CDO-ALLDAYEVENT:FALSE
SUMMARY:Online: Magician Cody Fisher
DESCRIPTION:Get ready for Cody Fisher's "Virtual Magic Show." Join us for some Amazing Interactive Magic & Mind Reading. The show will be transmitted LIVE from Cody's professional studio right into your home! Please follow the link below to register for the program. After filling out the short form with your name and email address\, the Zoom link will be emailed to you. For security\, we ask that your link not be shared with others. https://laketravislibrary.org/ai1ec-event/online-magician-cody-fisher/?instance_id=18753
X-ALT-DESC;FMTTYPE=text/html:Get ready for Cody Fisher&rsquo\;s &ldquo\;Virtual Magic Show.&quot\; Join us for some Amazing Interactive Magic &amp\; Mind Reading. The show will be transmitted LIVE from Cody&rsquo\;s professional studio right into your home! Please follow the link below to register for the program. After filling out the short form with your name and email address\, the Zoom link will be emailed to you. For security\, we ask that your link not be shared with others. https://laketravislibrary.org/ai1ec-event/online-magician-cody-fisher/?instance_id=18753
LOCATION:Virtual Event with Lake Travis Community Library and Bee Cave Public Library.
UID:e.2123.10126
SEQUENCE:3
DTSTAMP:20260423T091157Z
URL:https://laketravischamberfest.com/events/details/online-magician-cody-fisher-10126
END:VEVENT

END:VCALENDAR
