BEGIN:VCALENDAR
VERSION:2.0
PRODID:-//ChamberMaster//Event Calendar 2.0//EN
METHOD:PUBLISH
X-PUBLISHED-TTL:P3D
REFRESH-INTERVAL:P3D
CALSCALE:GREGORIAN
BEGIN:VEVENT
DTSTART:20210311T010000Z
DTEND:20210311T020000Z
X-MICROSOFT-CDO-ALLDAYEVENT:FALSE
SUMMARY:Online: LAKE TRAVIS READS: Lisa Wingate
DESCRIPTION:Now entering its fourteenth year\, LAKE TRAVIS READS 2021 will feature the new book by #1 New York Times bestselling author Lisa Wingate\, "The Book of Lost Friends." An instant New York Times bestseller\, the story follows an unlikely trio of girls coming of age as they embark on a perilous journey through reconstruction Louisiana and Texas   and a modern-day teacher in small-town Louisiana who rediscovers their story. The Book of Lost Friends was inspired by real-life "Lost Friends" ads\, through which families separated during slavery sought to find their lost loved ones in the chaos following the Civil War. Wingate is a former journalist\, inspirational speaker\, and bestselling author of more than twenty novels. Her work has won or been nominated for many awards\, including the Pat Conroy Southern Book Prize and the RT Booklovers Reviewer's Choice Award. Her 2017 historical novel "Before We Were Yours" centered around the true events involving the Tennessee Children's Home Society and has sold over three million copies. The community is invited to hear Wingate speak at the 2021 LAKE TRAVIS READS "Evening with the Author" on Wednesday\, March 10 at 7 p.m. This year's event will take place via Zoom and the registration link can be found on www.laketravisreads.org. The event is free and open to the public.
X-ALT-DESC;FMTTYPE=text/html:Now entering its fourteenth year\, LAKE TRAVIS READS 2021 will feature the new book by #1 New York Times bestselling author Lisa Wingate\, &quot\;The Book of Lost Friends.&quot\; An instant New York Times bestseller\, the story follows an unlikely trio of girls coming of age as they embark on a perilous journey through reconstruction Louisiana and Texas &hellip\; and a modern-day teacher in small-town Louisiana who rediscovers their story. The Book of Lost Friends was inspired by real-life &ldquo\;Lost Friends&rdquo\; ads\, through which families separated during slavery sought to find their lost loved ones in the chaos following the Civil War. Wingate is a former journalist\, inspirational speaker\, and bestselling author of more than twenty novels. Her work has won or been nominated for many awards\, including the Pat Conroy Southern Book Prize and the RT Booklovers Reviewer&rsquo\;s Choice Award. Her 2017 historical novel &quot\;Before We Were Yours&quot\; centered around the true events involving the Tennessee Children&#39\;s Home Society and has sold over three million copies. The community is invited to hear Wingate speak at the 2021 LAKE TRAVIS READS &ldquo\;Evening with the Author&rdquo\; on Wednesday\, March 10 at 7 p.m. This year&rsquo\;s event will take place via Zoom and the registration link can be found on www.laketravisreads.org. The event is free and open to the public.
LOCATION:Online: Register at www.laketravisreads.org.
UID:e.2123.10342
SEQUENCE:3
DTSTAMP:20260423T212048Z
URL:https://laketravischamberfest.com/events/details/online-lake-travis-reads-lisa-wingate-10342
END:VEVENT

END:VCALENDAR
