BEGIN:VCALENDAR
VERSION:2.0
PRODID:-//ChamberMaster//Event Calendar 2.0//EN
METHOD:PUBLISH
X-PUBLISHED-TTL:P3D
REFRESH-INTERVAL:P3D
CALSCALE:GREGORIAN
BEGIN:VEVENT
DTSTART:20200911T000000Z
DTEND:20200911T010000Z
X-MICROSOFT-CDO-ALLDAYEVENT:FALSE
SUMMARY:Online: Great Decisions – The Philippines and the U.S.
DESCRIPTION:Great Decisions is a nationwide\, non-partisan discussion program sponsored by the Foreign Policy Association. Join the meeting to watch a short video and discuss the most critical global issues facing America today. The topic for this meeting is "The Philippines and the U.S." and will be led by retired U.S. Ambassador Gene Christy. Participants can prepare for the discussion by reading the Great Decision Briefing Book\, available to borrow from the library or purchase through the Foreign Policy Association\, and by watching the video in advance. To view the video with the group\, please join at 7pm\; for the discussion only\, please join at 7:30pm. Please follow the link below to register for program. After filling out the short form with your name and email address\, the Zoom link will be emailed to you. For security\, we ask that your link not be shared with others. https://us02web.zoom.us/meeting/register/tZ0ud-qorzkqH9FnnV3WDZ9c_cxTMGp45lth
X-ALT-DESC;FMTTYPE=text/html:Great Decisions is a nationwide\, non-partisan discussion program sponsored by the Foreign Policy Association. Join the meeting to watch a short video and discuss the most critical global issues facing America today. The topic for this meeting is &ldquo\;The Philippines and the U.S.&rdquo\; and will be led by retired U.S. Ambassador Gene Christy. Participants can prepare for the discussion by reading the Great Decision Briefing Book\, available to borrow from the library or purchase through the Foreign Policy Association\, and by watching the video in advance. To view the video with the group\, please join at 7pm\; for the discussion only\, please join at 7:30pm. Please follow the link below to register for program. After filling out the short form with your name and email address\, the Zoom link will be emailed to you. For security\, we ask that your link not be shared with others. https://us02web.zoom.us/meeting/register/tZ0ud-qorzkqH9FnnV3WDZ9c_cxTMGp45lth
LOCATION:Online
UID:e.2123.10150
SEQUENCE:3
DTSTAMP:20260423T122600Z
URL:https://laketravischamberfest.com/events/details/online-great-decisions-the-philippines-and-the-u-s-10150
END:VEVENT

END:VCALENDAR
