BEGIN:VCALENDAR
VERSION:2.0
PRODID:-//ChamberMaster//Event Calendar 2.0//EN
METHOD:PUBLISH
X-PUBLISHED-TTL:P3D
REFRESH-INTERVAL:P3D
CALSCALE:GREGORIAN
BEGIN:VEVENT
DTSTART:20200723T190000Z
DTEND:20200723T200000Z
X-MICROSOFT-CDO-ALLDAYEVENT:FALSE
SUMMARY:Online: Dinosaur George
DESCRIPTION:Let's learn all things T-Rex\, King of the Dinosaurs! Join Dinosaur George for a fascinating presentation on the world's most feared dinosaur. Bring your questions for a chance to ask what you always wanted to know. Please follow the link below to register for the program. After filling out the short form with your name and email address\, the Zoom link will be emailed to you. For security\, we ask that your link not be shared with others. https://laketravislibrary.org/ai1ec-event/online-dinosaur-george/?instance_id=18756
X-ALT-DESC;FMTTYPE=text/html:Let&rsquo\;s learn all things T-Rex\, King of the Dinosaurs! Join Dinosaur George for a fascinating presentation on the world&rsquo\;s most feared dinosaur. Bring your questions for a chance to ask what you always wanted to know. Please follow the link below to register for the program. After filling out the short form with your name and email address\, the Zoom link will be emailed to you. For security\, we ask that your link not be shared with others. https://laketravislibrary.org/ai1ec-event/online-dinosaur-george/?instance_id=18756
LOCATION:Virtual event with Lake Travis Community Library and Bee Cave Public Library.
UID:e.2123.10129
SEQUENCE:3
DTSTAMP:20260423T090758Z
URL:https://laketravischamberfest.com/events/details/online-dinosaur-george-10129
END:VEVENT

END:VCALENDAR
