BEGIN:VCALENDAR
VERSION:2.0
PRODID:-//ChamberMaster//Event Calendar 2.0//EN
METHOD:PUBLISH
X-PUBLISHED-TTL:P3D
REFRESH-INTERVAL:P3D
CALSCALE:GREGORIAN
BEGIN:VEVENT
DTSTART:20200903T160000Z
DTEND:20200903T173000Z
X-MICROSOFT-CDO-ALLDAYEVENT:FALSE
SUMMARY:Online: AARP Smart DriverTEK
DESCRIPTION:With rapid changes in technology in recent years\, you may find yourself unfamiliar with the safety features your automobile has to offer. Join Tech Coach Bryan Smith to learn the benefits of blind spot warning systems\, smart headlights\, lane departure warnings\, and more on Thursday\, September 3rd at 11am. Please follow the link below to register for this free\, virtual 90-minute class. After filling out the short form with your name and email address\, the Zoom link will be emailed to you. For security\, we ask that your link not be shared with others. http://aarp.cvent.com/d/h7qp7t
X-ALT-DESC;FMTTYPE=text/html:With rapid changes in technology in recent years\, you may find yourself unfamiliar with the safety features your automobile has to offer. Join Tech Coach Bryan Smith to learn the benefits of blind spot warning systems\, smart headlights\, lane departure warnings\, and more on Thursday\, September 3rd at 11am. Please follow the link below to register for this free\, virtual 90-minute class. After filling out the short form with your name and email address\, the Zoom link will be emailed to you. For security\, we ask that your link not be shared with others. http://aarp.cvent.com/d/h7qp7t
LOCATION:Online: Zoom
UID:e.2123.10149
SEQUENCE:3
DTSTAMP:20260423T121054Z
URL:https://laketravischamberfest.com/events/details/online-aarp-smart-drivertek-10149
END:VEVENT

END:VCALENDAR
