BEGIN:VCALENDAR
VERSION:2.0
PRODID:-//ChamberMaster//Event Calendar 2.0//EN
METHOD:PUBLISH
X-PUBLISHED-TTL:P3D
REFRESH-INTERVAL:P3D
CALSCALE:GREGORIAN
BEGIN:VEVENT
DTSTART:20190601T160000Z
DTEND:20190630T170000Z
X-MICROSOFT-CDO-ALLDAYEVENT:FALSE
SUMMARY:Once Upon A Whaaa?!
DESCRIPTION:Once Upon a Whaaa?!\, is a fully improvised mashup of some of our favorite classic stories. The skilled improvisers from the Hideout Theatre will take the Scottish Rite stage to completely remix well-known stories using suggestions from the audience. Since its improvised\, each show is totally unique\, never seen before\, never to be seen again!
X-ALT-DESC;FMTTYPE=text/html:Once Upon a Whaaa?!\, is a fully improvised mashup of some of our favorite classic stories. The skilled improvisers from the Hideout Theatre will take the Scottish Rite stage to completely remix well-known stories using suggestions from the audience. Since its improvised\, each show is totally unique\, never seen before\, never to be seen again!
LOCATION:Austin Scottish Rite Theater 207 West 18th St. Austin\, TX 78701
UID:e.2123.9903
SEQUENCE:3
DTSTAMP:20260422T134545Z
URL:https://laketravischamberfest.com/events/details/once-upon-a-whaaa-9903
END:VEVENT

END:VCALENDAR
