BEGIN:VCALENDAR
VERSION:2.0
PRODID:-//ChamberMaster//Event Calendar 2.0//EN
METHOD:PUBLISH
X-PUBLISHED-TTL:P3D
REFRESH-INTERVAL:P3D
CALSCALE:GREGORIAN
BEGIN:VEVENT
DTSTART:20180513T180000Z
DTEND:20180515T230000Z
X-MICROSOFT-CDO-ALLDAYEVENT:FALSE
SUMMARY:Once On This Island
DESCRIPTION:With its poignant story and catchy Caribbean-flavored score\, Once on This Island JR. is a highly original theatrical adaptation of Hans Christian Andersen's popular fairy tale\, The Little Mermaid\, and the Tony-nominated Broadway musical by the legendary writing team\, Ahrens and Flaherty. Through almost non-stop song and dance\, this full-hearted musical tells the story of Ti Moune\, a peasant girl who rescues and falls in love with Daniel\, a wealthy boy from the other side of her island. When Daniel is returned to his people\, the fantastical gods who rule the island guide Ti Moune on a quest that will test the strength of her love against the powerful forces of prejudice\, hatred and even death. Starring the TexARTS Teen Musical Theatre Academy Students and directed by Christina Stroup.
X-ALT-DESC;FMTTYPE=text/html:With its poignant story and catchy Caribbean-flavored score\, Once on This Island JR. is a highly original theatrical adaptation of Hans Christian Andersen&rsquo\;s popular fairy tale\, The Little Mermaid\, and the Tony-nominated Broadway musical by the legendary writing team\, Ahrens and Flaherty. Through almost non-stop song and dance\, this full-hearted musical tells the story of Ti Moune\, a peasant girl who rescues and falls in love with Daniel\, a wealthy boy from the other side of her island. When Daniel is returned to his people\, the fantastical gods who rule the island guide Ti Moune on a quest that will test the strength of her love against the powerful forces of prejudice\, hatred and even death. Starring the TexARTS Teen Musical Theatre Academy Students and directed by Christina Stroup.
LOCATION:TexARTS
UID:e.2123.9614
SEQUENCE:3
DTSTAMP:20260421T192323Z
URL:https://laketravischamberfest.com/events/details/once-on-this-island-9614
END:VEVENT

END:VCALENDAR
