BEGIN:VCALENDAR
VERSION:2.0
PRODID:-//ChamberMaster//Event Calendar 2.0//EN
METHOD:PUBLISH
X-PUBLISHED-TTL:P3D
REFRESH-INTERVAL:P3D
CALSCALE:GREGORIAN
BEGIN:VEVENT
DTSTART:20180818T140000Z
DTEND:20180819T173000Z
X-MICROSOFT-CDO-ALLDAYEVENT:FALSE
SUMMARY:On-Water Training- Lake Travis\, TX
DESCRIPTION:No experience necessary! Whether you love boating and want to gain confidence at the helm\, you're considering buying or renting a boat and want to learn new skills\, or you're just curious about boating\, the BoatUS Foundation has partnered with Freedom Boat Club Lake Travis to offer you the BoatUS Foundation On-Water Training program. It is a fun\, easy\, and affordable way to develop your sea legs! 3 hours on-water 3-4 students per boat Shifting & Steering Basic docking Open water handling Basic navigation
X-ALT-DESC;FMTTYPE=text/html:No experience necessary! Whether you love boating and want to gain confidence at the helm\, you&#39\;re considering buying or renting a boat and want to learn new skills\, or you&#39\;re just curious about boating\, the BoatUS Foundation has partnered with Freedom Boat Club Lake Travis to offer you the BoatUS Foundation On-Water Training program. It is a fun\, easy\, and affordable way to develop your sea legs! 3 hours on-water 3-4 students per boat Shifting &amp\; Steering Basic docking Open water handling Basic navigation
LOCATION:Rough Hollow Yacht Club and Marina 105 Yacht Club Cove Lakeway\, TX 78734
UID:e.2123.9683
SEQUENCE:3
DTSTAMP:20260421T222039Z
URL:https://laketravischamberfest.com/events/details/on-water-training-lake-travis-tx-9683
END:VEVENT

END:VCALENDAR
