BEGIN:VCALENDAR
VERSION:2.0
PRODID:-//ChamberMaster//Event Calendar 2.0//EN
METHOD:PUBLISH
X-PUBLISHED-TTL:P3D
REFRESH-INTERVAL:P3D
CALSCALE:GREGORIAN
BEGIN:VEVENT
DTSTART:20190520T233000Z
DTEND:20190521T013000Z
X-MICROSOFT-CDO-ALLDAYEVENT:FALSE
SUMMARY:Olive Oil\, Vinegar & Vodka-Featuring Local Maker Deep Eddy Vodka
DESCRIPTION:Join us for our next collaboration class with local maker Deep Eddy Vodka! Ben Saey will be back to demonstrate each refreshing cocktail below! Ben has a strong passion to create beautiful cocktails from unique ingredients and has been doing so for many years. Throughout the evening you will try different cocktails featuring our oils and vinegars and the different flavors of Deep Eddy Vodka! Participants can also learn how each of the flavors are produced at the distillery. Ben will guide you through a demonstration of four to five cocktail pairings accompanied by an artisan pasta dish\, spinach/arugula salad\, spanish olives\, marcona almonds and artisan bread.
X-ALT-DESC;FMTTYPE=text/html:Join us for our next collaboration class with local maker Deep Eddy Vodka! Ben Saey will be back to demonstrate each refreshing cocktail below! Ben has a strong passion to create beautiful cocktails from unique ingredients and has been doing so for many years. Throughout the evening you will try different cocktails featuring our oils and vinegars and the different flavors of Deep Eddy Vodka! Participants can also learn how each of the flavors are produced at the distillery. Ben will guide you through a demonstration of four to five cocktail pairings accompanied by an artisan pasta dish\, spinach/arugula salad\, spanish olives\, marcona almonds and artisan bread.
LOCATION:Con Olio 3500 Ranch Road 620 S\, Ste F400\, Bee Cave TX 78738
UID:e.2123.9910
SEQUENCE:3
DTSTAMP:20260422T121805Z
URL:https://laketravischamberfest.com/events/details/olive-oil-vinegar-vodka-featuring-local-maker-deep-eddy-vodka-05-20-2019-9910
END:VEVENT

END:VCALENDAR
