BEGIN:VCALENDAR
VERSION:2.0
PRODID:-//ChamberMaster//Event Calendar 2.0//EN
METHOD:PUBLISH
X-PUBLISHED-TTL:P3D
REFRESH-INTERVAL:P3D
CALSCALE:GREGORIAN
BEGIN:VEVENT
DTSTART:20200117T003000Z
DTEND:20200117T023000Z
X-MICROSOFT-CDO-ALLDAYEVENT:FALSE
SUMMARY:Olive Oil/Balsamic Vinegar 101 Class
DESCRIPTION:Let our olive oil expert guide you through a tasting of some of the world's freshest extra virgin olive oils & aged balsamic vinegars complete with pairings of cheese\, artisinal bread\, Amy's Mexican Vanilla ice cream and more. Separate truths from myths as you discover the history\, mythology\, production process and health benefits of olive oil & balsamic vinegars while learning how to taste and examine them like a professional sensory panel taster. Experience the full spectrum of olive oils from countries around the world with flavors spanning from intense and robust to mild and buttery. Discover whole new ways to enjoy these kitchen staple with friends\, loved ones or as a lone pioneer! Feel welcome to purchase a bottle of wine to enjoy during the class.
X-ALT-DESC;FMTTYPE=text/html:Let our olive oil expert guide you through a tasting of some of the world&rsquo\;s freshest extra virgin olive oils &amp\; aged balsamic vinegars complete with pairings of cheese\, artisinal bread\, Amy&rsquo\;s Mexican Vanilla ice cream and more. Separate truths from myths as you discover the history\, mythology\, production process and health benefits of olive oil &amp\; balsamic vinegars while learning how to taste and examine them like a professional sensory panel taster. Experience the full spectrum of olive oils from countries around the world with flavors&nbsp\;spanning from intense and robust to mild and buttery.&nbsp\;Discover whole new ways to enjoy these kitchen staple with friends\, loved ones or as a lone pioneer! Feel welcome to purchase a bottle of wine to enjoy during the class.
LOCATION:Con' Olio 3500 FM 620 South\, Ste F-400\, 78738
UID:e.2123.10049
SEQUENCE:3
DTSTAMP:20260423T015839Z
URL:https://laketravischamberfest.com/events/details/olive-oil-balsamic-vinegar-101-class-10049
END:VEVENT

END:VCALENDAR
