BEGIN:VCALENDAR
VERSION:2.0
PRODID:-//ChamberMaster//Event Calendar 2.0//EN
METHOD:PUBLISH
X-PUBLISHED-TTL:P3D
REFRESH-INTERVAL:P3D
CALSCALE:GREGORIAN
BEGIN:VEVENT
DTSTART:20190627T230000Z
DTEND:20190628T010000Z
X-MICROSOFT-CDO-ALLDAYEVENT:FALSE
SUMMARY:Olive Oil 101 Class
DESCRIPTION:There's a whole wide world of olive oil out there   come explore it at our Olive Oil 101 class! Let our olive oil expert guide you through a tasting of some of the world's freshest extra virgin olive oils complete with pairings of cheese\, artisanal bread\, Amy's Mexican Vanilla ice cream and more.
X-ALT-DESC;FMTTYPE=text/html:There&rsquo\;s a whole wide world of olive oil out there &mdash\; come explore it at our Olive Oil 101 class! Let our olive oil expert guide you through a tasting of some of the world&rsquo\;s freshest extra virgin olive oils complete with pairings of cheese\, artisanal bread\, Amy&rsquo\;s Mexican Vanilla ice cream and more.
LOCATION:3500 Ranch Road 620 S\, Ste F-400
UID:e.2123.9920
SEQUENCE:3
DTSTAMP:20260422T134619Z
URL:https://laketravischamberfest.com/events/details/olive-oil-101-class-9920
END:VEVENT

END:VCALENDAR
