BEGIN:VCALENDAR
VERSION:2.0
PRODID:-//ChamberMaster//Event Calendar 2.0//EN
METHOD:PUBLISH
X-PUBLISHED-TTL:P3D
REFRESH-INTERVAL:P3D
CALSCALE:GREGORIAN
BEGIN:VEVENT
DTSTART;VALUE=DATE:20201117
DTEND;VALUE=DATE:20201219
TRANSP:TRANSPARENT
X-MICROSOFT-CDO-ALLDAYEVENT:TRUE
SUMMARY:November 17-December 18 Cooking Video Competition to win gifts from Events by Collette
DESCRIPTION:Send us a video of you (and your family or friends) preparing your favorite recipe from Events by Collette recipes online or cookbook recipes. \n\n \nThe winning video will receive a copy of our Never Go Hungry Again cookbook and a $100 Chef Pass.\nMore information
X-ALT-DESC;FMTTYPE=text/html:<span style="color:rgb(64\, 64\, 64)\; font-family:europa\; font-size:18px">Send us a video of you (and your family or friends) preparing your favorite recipe from Events by Collette </span><a href="https://www.eventsbycollette.com/newsevents" style="color: rgb(255\, 63\, 96)\; text-decoration-line: none\; padding-bottom: 0.05em\; border-bottom: 1px solid rgba(255\, 63\, 96\, 0.3)\; transition: border-color 0.15s ease-out 0s\, color 0.15s ease-out 0s\; overflow-wrap: break-word\; font-family: europa\; font-size: 18px\; letter-spacing: 0.54px\; text-align: center\; white-space: pre-wrap\;"><strong>recipes online</strong> </a><span style="color:rgb(64\, 64\, 64)\; font-family:europa\; font-size:18px">or </span><a href="https://www.eventsbycollette.com/cookbook" style="color: rgb(255\, 63\, 96)\; text-decoration-line: none\; padding-bottom: 0.05em\; border-bottom: 1px solid rgba(255\, 63\, 96\, 0.3)\; transition: border-color 0.15s ease-out 0s\, color 0.15s ease-out 0s\; overflow-wrap: break-word\; font-family: europa\; font-size: 18px\; letter-spacing: 0.54px\; text-align: center\; white-space: pre-wrap\;"><strong>cookbook recipes</strong></a><span style="color:rgb(64\, 64\, 64)\; font-family:europa\; font-size:18px">. </span><br />\n&nbsp\;\n<h3>The winning video will receive a copy of our <a href="https://www.eventsbycollette.com/cookbook" style="background-color: transparent\; color: inherit\; text-decoration-line: none\; padding-bottom: 0.05em\; border-bottom: 1px solid rgba(29\, 29\, 29\, 0.3)\; transition: border-color 0.15s ease-out 0s\, color 0.15s ease-out 0s\; overflow-wrap: break-word\;"><strong>Never Go Hungry Again cookbook</strong></a> and a $100 <a href="https://www.eventsbycollette.com/classes-gifts-partyfavors-catering-parties-teambuilding/chef-pass" style="background-color: transparent\; color: inherit\; text-decoration-line: none\; padding-bottom: 0.05em\; border-bottom: 1px solid rgba(29\, 29\, 29\, 0.3)\; transition: border-color 0.15s ease-out 0s\, color 0.15s ease-out 0s\; overflow-wrap: break-word\;"><strong>Chef Pass</strong></a>.</h3>\n<strong><a href="https://www.eventsbycollette.com/virtual-cooking-class-calendar">More information</a></strong>
LOCATION:
UID:e.2123.10301
SEQUENCE:3
DTSTAMP:20260423T151822Z
URL:https://laketravischamberfest.com/events/details/november-17-december-18-cooking-video-competition-to-win-gifts-from-events-by-collette-10301
END:VEVENT

END:VCALENDAR
