BEGIN:VCALENDAR
VERSION:2.0
PRODID:-//ChamberMaster//Event Calendar 2.0//EN
METHOD:PUBLISH
X-PUBLISHED-TTL:P3D
REFRESH-INTERVAL:P3D
CALSCALE:GREGORIAN
BEGIN:VEVENT
DTSTART:20171231T170000Z
DTEND:20171231T181500Z
X-MICROSOFT-CDO-ALLDAYEVENT:FALSE
SUMMARY:Noon Year’s Eve Party
DESCRIPTION:Noon Year's Eve Party - Sunday\, December 31st at 11am - Can't stay awake for the midnight hour? Join us to celebrate the new year at noon! We'll make hats and noise makers starting at 11am\, children's musician Joe McDermott will perform at 11:30am\, then we'll snack on goodies and toast to the 12 o'clock hour!
X-ALT-DESC;FMTTYPE=text/html:Noon Year&rsquo\;s Eve Party - Sunday\, December 31st at 11am - Can&rsquo\;t stay awake for the midnight hour? Join us to celebrate the new year at noon! We&rsquo\;ll make hats and noise makers starting at 11am\, children&rsquo\;s musician Joe McDermott will perform at 11:30am\, then we&rsquo\;ll snack on goodies and toast to the 12 o&rsquo\;clock hour!
LOCATION:Lake Travis Community Library 1938 Lohmans Crossing Austin\, Texas 78734
UID:e.2123.9514
SEQUENCE:3
DTSTAMP:20260421T113506Z
URL:https://laketravischamberfest.com/events/details/noon-year-s-eve-party-9514
END:VEVENT

END:VCALENDAR
