BEGIN:VCALENDAR
VERSION:2.0
PRODID:-//ChamberMaster//Event Calendar 2.0//EN
METHOD:PUBLISH
X-PUBLISHED-TTL:P3D
REFRESH-INTERVAL:P3D
CALSCALE:GREGORIAN
BEGIN:VEVENT
DTSTART:20191209T163000Z
DTEND:20191209T173000Z
X-MICROSOFT-CDO-ALLDAYEVENT:FALSE
SUMMARY:Nonprofit Services for Aging Adults
DESCRIPTION:Nonprofit Services for Aging Adults - Monday\, December 9th at 10:30am - Lake Travis Senior Services will host a panel of notable community members including Library Director Morgan McMillian\, Director of In Home Care at Family Eldercare Lisa Day\, and President of the Service League of Greater Lakeway Tom Seidenstricker.
X-ALT-DESC;FMTTYPE=text/html:Nonprofit Services for Aging Adults - Monday\, December 9th at 10:30am - Lake Travis Senior Services will host a panel of notable community members including Library Director Morgan McMillian\, Director of In Home Care at Family Eldercare Lisa Day\, and President of the Service League of Greater Lakeway Tom Seidenstricker.
LOCATION:Lake Travis Community Library 1938 Lohmans Crossing Austin\, Texas 78734
UID:e.2123.10034
SEQUENCE:3
DTSTAMP:20260422T225607Z
URL:https://laketravischamberfest.com/events/details/nonprofit-services-for-aging-adults-10034
END:VEVENT

END:VCALENDAR
