BEGIN:VCALENDAR
VERSION:2.0
PRODID:-//ChamberMaster//Event Calendar 2.0//EN
METHOD:PUBLISH
X-PUBLISHED-TTL:P3D
REFRESH-INTERVAL:P3D
CALSCALE:GREGORIAN
BEGIN:VEVENT
DTSTART:20200101T020000Z
DTEND:20200101T070000Z
X-MICROSOFT-CDO-ALLDAYEVENT:FALSE
SUMMARY:New Year's Eve at Meridian 98
DESCRIPTION:Enjoy food specials and festive cocktails at Meridian 98 with a champagne toast at midnight and live DJ until 12:30 AM.
X-ALT-DESC;FMTTYPE=text/html:Enjoy food specials and festive cocktails at Meridian 98 with a champagne toast at midnight and live DJ until 12:30 AM.
LOCATION:Meridian 98 12525 Bee Cave Pkwy.
UID:e.2123.10047
SEQUENCE:3
DTSTAMP:20260422T225827Z
URL:https://laketravischamberfest.com/events/details/new-year-s-eve-at-meridian-98-10047
END:VEVENT

END:VCALENDAR
