BEGIN:VCALENDAR
VERSION:2.0
PRODID:-//ChamberMaster//Event Calendar 2.0//EN
METHOD:PUBLISH
X-PUBLISHED-TTL:P3D
REFRESH-INTERVAL:P3D
CALSCALE:GREGORIAN
BEGIN:VEVENT
DTSTART:20200102T150000Z
DTEND:20200102T160000Z
X-MICROSOFT-CDO-ALLDAYEVENT:FALSE
SUMMARY:New Hours Breakfast Celebration
DESCRIPTION:The Lake Travis Community Library has some exciting news! Beginning in 2020 we will extend our hours. We'll kick off the new year and new hours with a Breakfast Celebration featuring hot coffee and warm cinnamon rolls on Thursday\, January 2nd at 9am (while supplies last)! New hours are Mondays - Thursdays from 9am-7pm\, Fridays from 9am-6pm\, Saturdays from 9am-4pm\, and Sundays from 12pm-4pm.
X-ALT-DESC;FMTTYPE=text/html:The Lake Travis Community Library has some exciting news! Beginning in 2020 we will extend our hours. We&rsquo\;ll kick off the new year and new hours with a Breakfast Celebration featuring hot coffee and warm cinnamon rolls on Thursday\, January 2nd at 9am (while supplies last)! New hours are Mondays - Thursdays from 9am-7pm\, Fridays from 9am-6pm\, Saturdays from 9am-4pm\, and Sundays from 12pm-4pm.
LOCATION:Lake Travis Community Library 1938 Lohmans Crossing Austin\, Texas 78734
UID:e.2123.10042
SEQUENCE:3
DTSTAMP:20260423T003123Z
URL:https://laketravischamberfest.com/events/details/new-hours-breakfast-celebration-10042
END:VEVENT

END:VCALENDAR
