BEGIN:VCALENDAR
VERSION:2.0
PRODID:-//ChamberMaster//Event Calendar 2.0//EN
METHOD:PUBLISH
X-PUBLISHED-TTL:P3D
REFRESH-INTERVAL:P3D
CALSCALE:GREGORIAN
BEGIN:VEVENT
DTSTART:20230111T173000Z
DTEND:20230111T183000Z
X-MICROSOFT-CDO-ALLDAYEVENT:FALSE
SUMMARY:New Board Member Orientation
DESCRIPTION:This is a closed meeting at Fuse Workspace.
X-ALT-DESC;FMTTYPE=text/html:This is a closed meeting at Fuse Workspace.
LOCATION:
UID:e.2123.11687
SEQUENCE:3
DTSTAMP:20260423T113039Z
URL:https://laketravischamberfest.com/events/details/new-board-member-orientation-11687
END:VEVENT

END:VCALENDAR
