BEGIN:VCALENDAR
VERSION:2.0
PRODID:-//ChamberMaster//Event Calendar 2.0//EN
METHOD:PUBLISH
X-PUBLISHED-TTL:P3D
REFRESH-INTERVAL:P3D
CALSCALE:GREGORIAN
BEGIN:VEVENT
DTSTART:20180921T153000Z
DTEND:20180921T163000Z
X-MICROSOFT-CDO-ALLDAYEVENT:FALSE
SUMMARY:Navigating Menopause
DESCRIPTION:Navigating Menopause - Friday\, September 21st at 10:30am - Kate Grevera of Lake Travis Health will lead this educational women's health and wellness class.
X-ALT-DESC;FMTTYPE=text/html:Navigating Menopause - Friday\, September 21st at 10:30am - Kate Grevera of Lake Travis Health will lead this educational women&rsquo\;s health and wellness class.
LOCATION:Lake Travis Community Library 1938 Lohmans Crossing Austin\, Texas 78734
UID:e.2123.9698
SEQUENCE:3
DTSTAMP:20260421T233047Z
URL:https://laketravischamberfest.com/events/details/navigating-menopause-9698
END:VEVENT

END:VCALENDAR
