BEGIN:VCALENDAR
VERSION:2.0
PRODID:-//ChamberMaster//Event Calendar 2.0//EN
METHOD:PUBLISH
X-PUBLISHED-TTL:P3D
REFRESH-INTERVAL:P3D
CALSCALE:GREGORIAN
BEGIN:VEVENT
DTSTART:20200210T163000Z
DTEND:20200210T173000Z
X-MICROSOFT-CDO-ALLDAYEVENT:FALSE
SUMMARY:Navigating a Health Event and Discharge
DESCRIPTION:Navigating a Health Event and Discharge - Monday\, February 10th at 10:30am - When it is time to discharge after a life event there are many things to consider and plan. Lake Travis Senior Services will host a panel of experts to help you have a safe and appropriate discharge.
X-ALT-DESC;FMTTYPE=text/html:Navigating a Health Event and Discharge - Monday\, February 10th at 10:30am - When it is time to discharge after a life event there are many things to consider and plan. Lake Travis Senior Services will host a panel of experts to help you have a safe and appropriate discharge.
LOCATION:Lake Travis Community Library 1938 Lohmans Crossing Austin\, Texas 78734
UID:e.2123.10059
SEQUENCE:3
DTSTAMP:20260423T015340Z
URL:https://laketravischamberfest.com/events/details/navigating-a-health-event-and-discharge-10059
END:VEVENT

END:VCALENDAR
