BEGIN:VCALENDAR
VERSION:2.0
PRODID:-//ChamberMaster//Event Calendar 2.0//EN
METHOD:PUBLISH
X-PUBLISHED-TTL:P3D
REFRESH-INTERVAL:P3D
CALSCALE:GREGORIAN
BEGIN:VEVENT
DTSTART:20190910T153000Z
DTEND:20190910T163000Z
X-MICROSOFT-CDO-ALLDAYEVENT:FALSE
SUMMARY:National Weather Service Training
DESCRIPTION:National Weather Service Training - Tuesday\, September 10th at 10:30am - Learn about severe weather preparedness\, safety\, and reporting procedures to become an official weather spotter for the National Weather Service.
X-ALT-DESC;FMTTYPE=text/html:National Weather Service Training - Tuesday\, September 10th at 10:30am - Learn about severe weather preparedness\, safety\, and reporting procedures to become an official weather spotter for the National Weather Service.
LOCATION:Lake Travis Community Library 1938 Lohmans Crossing Austin\, Texas 78734
UID:e.2123.9972
SEQUENCE:3
DTSTAMP:20260422T181103Z
URL:https://laketravischamberfest.com/events/details/national-weather-service-training-9972
END:VEVENT

END:VCALENDAR
