BEGIN:VCALENDAR
VERSION:2.0
PRODID:-//ChamberMaster//Event Calendar 2.0//EN
METHOD:PUBLISH
X-PUBLISHED-TTL:P3D
REFRESH-INTERVAL:P3D
CALSCALE:GREGORIAN
BEGIN:VEVENT
DTSTART:20180209T223000Z
DTEND:20180209T233000Z
X-MICROSOFT-CDO-ALLDAYEVENT:FALSE
SUMMARY:Musicians Woodshed Sessions
DESCRIPTION:Enjoy live music at the library! The Musicians Woodshed is a locally owned music store and recording studio that offers a variety of music lessons. Each session at the library will include one or more student performances from The Musicians Woodshed and can range in style from country to pop/rock and beyond!
X-ALT-DESC;FMTTYPE=text/html:Enjoy live music at the library! The Musicians Woodshed is a locally owned music store and recording studio that offers a variety of music lessons. Each session at the library will include one or more student performances from The Musicians Woodshed and can range in style from country to pop/rock and beyond!
LOCATION:Lake Travis Community Library 1938 Lohmans Crossing Austin\, Texas 78734
UID:e.2123.9545
SEQUENCE:3
DTSTAMP:20260421T131950Z
URL:https://laketravischamberfest.com/events/details/musicians-woodshed-sessions-9545
END:VEVENT

END:VCALENDAR
