BEGIN:VCALENDAR
VERSION:2.0
PRODID:-//ChamberMaster//Event Calendar 2.0//EN
METHOD:PUBLISH
X-PUBLISHED-TTL:P3D
REFRESH-INTERVAL:P3D
CALSCALE:GREGORIAN
BEGIN:VEVENT
DTSTART:20180112T220000Z
DTEND:20180112T230000Z
X-MICROSOFT-CDO-ALLDAYEVENT:FALSE
SUMMARY:Musician Lisa Clark
DESCRIPTION:Musician Lisa Clark - Friday\, January 12th at 4pm - Join us for live music with jazz vocalist Lisa Clark! Clark writes and performs music in a variety of genres and styles and has performed all over the world.
X-ALT-DESC;FMTTYPE=text/html:Musician Lisa Clark - Friday\, January 12th at 4pm - Join us for live music with jazz vocalist Lisa Clark! Clark writes and performs music in a variety of genres and styles and has performed all over the world.
LOCATION:Lake Travis Community Library 1938 Lohmans Crossing Austin\, Texas 78734
UID:e.2123.9531
SEQUENCE:3
DTSTAMP:20260421T113443Z
URL:https://laketravischamberfest.com/events/details/musician-lisa-clark-9531
END:VEVENT

END:VCALENDAR
