BEGIN:VCALENDAR
VERSION:2.0
PRODID:-//ChamberMaster//Event Calendar 2.0//EN
METHOD:PUBLISH
X-PUBLISHED-TTL:P3D
REFRESH-INTERVAL:P3D
CALSCALE:GREGORIAN
BEGIN:VEVENT
DTSTART:20180503T003000Z
DTEND:20180503T033000Z
X-MICROSOFT-CDO-ALLDAYEVENT:FALSE
SUMMARY:Musicale
DESCRIPTION:The Sarofim School of Fine Arts' Music Department is pleased to present the final Musicale of the 2017-2018 academic year. The Musicale will consist of student solo and ensemble works.
X-ALT-DESC;FMTTYPE=text/html:The Sarofim School of Fine Arts&rsquo\; Music Department is pleased to present the final Musicale of the 2017-2018 academic year. The Musicale will consist of student solo and ensemble works.
LOCATION:Southwestern University's Alma Thomas Theater\, E. Rutersville Rd\, Georgetown\, TX\, 78626
UID:e.2123.9610
SEQUENCE:3
DTSTAMP:20260421T192337Z
URL:https://laketravischamberfest.com/events/details/musicale-05-02-2018-9610
END:VEVENT

END:VCALENDAR
