BEGIN:VCALENDAR
VERSION:2.0
PRODID:-//ChamberMaster//Event Calendar 2.0//EN
METHOD:PUBLISH
X-PUBLISHED-TTL:P3D
REFRESH-INTERVAL:P3D
CALSCALE:GREGORIAN
BEGIN:VEVENT
DTSTART:20180413T200000Z
DTEND:20180413T230000Z
X-MICROSOFT-CDO-ALLDAYEVENT:FALSE
SUMMARY:Musicale
DESCRIPTION:Sarofim School of Fine Arts' Music Department is pleased to present a Musicale consisting of student solo and ensemble works.
X-ALT-DESC;FMTTYPE=text/html:Sarofim School of Fine Arts&rsquo\; Music Department is pleased to present a Musicale consisting of student solo and ensemble works.
LOCATION:Southwestern University's Caldwell-Carvey Foyer\, E. Rutersville Rd\, Georgetown\, TX\, 78626.
UID:e.2123.9581
SEQUENCE:3
DTSTAMP:20260421T161548Z
URL:https://laketravischamberfest.com/events/details/musicale-04-13-2018-9581
END:VEVENT

END:VCALENDAR
