BEGIN:VCALENDAR
VERSION:2.0
PRODID:-//ChamberMaster//Event Calendar 2.0//EN
METHOD:PUBLISH
X-PUBLISHED-TTL:P3D
REFRESH-INTERVAL:P3D
CALSCALE:GREGORIAN
BEGIN:VEVENT
DTSTART:20211227T150000Z
DTEND:20211231T230000Z
X-MICROSOFT-CDO-ALLDAYEVENT:FALSE
SUMMARY:Musical Theatre Holiday Camp
DESCRIPTION:This is "Annie" at TexARTS! Join us for an awesome day of singing\, acting\, and dancing with our Best of Annie musical theater camp. This is a four day school holiday camp that begins on Monday\, December 27th\, 2021 and concludes on Thursday\, December 31st\, 2021 from either 9:00am-5:00pm or 9:00am-1:00pm. Tuition is $320. TexARTS' musical theater holiday camps are a fun foray into the world of theater! Our camps are led by professional teaching artists from throughout the Austin area and who coach students in acting\, singing\, and dance. Students ages 5-14 will learn songs\, scenes\, and dances to their favorite hits from the theme of the camp. For more information or to enroll visit www.tex-arts.org or call (512) 852-9079x104.
X-ALT-DESC;FMTTYPE=text/html:This is &ldquo\;Annie&rdquo\; at TexARTS! Join us for an awesome day of singing\, acting\, and dancing with our Best of Annie musical theater camp. This is a four day school holiday camp that begins on Monday\, December 27th\, 2021 and concludes on Thursday\, December 31st\, 2021 from either 9:00am-5:00pm or 9:00am-1:00pm. Tuition is $320. TexARTS&#39\; musical theater holiday camps are a fun foray into the world of theater! Our camps are led by professional teaching artists from throughout the Austin area and who coach students in acting\, singing\, and dance. Students ages 5-14 will learn songs\, scenes\, and dances to their favorite hits from the theme of the camp. For more information or to enroll visit www.tex-arts.org or call (512) 852-9079x104.
LOCATION:TexARTS Association
UID:e.2123.10926
SEQUENCE:3
DTSTAMP:20260424T060504Z
URL:https://laketravischamberfest.com/events/details/musical-theatre-holiday-camp-12-27-2021-10926
END:VEVENT

END:VCALENDAR
