BEGIN:VCALENDAR
VERSION:2.0
PRODID:-//ChamberMaster//Event Calendar 2.0//EN
METHOD:PUBLISH
X-PUBLISHED-TTL:P3D
REFRESH-INTERVAL:P3D
CALSCALE:GREGORIAN
BEGIN:VEVENT
DTSTART:20211122T150000Z
DTEND:20211124T230000Z
X-MICROSOFT-CDO-ALLDAYEVENT:FALSE
SUMMARY:Musical Theatre Holiday Camp
DESCRIPTION:This is "The Descendants" at TexARTS! Join us for an awesome day of singing\, acting\, and dancing with our Best of The Descendants musical theater camp. This is a three day school holiday camp that begins on Monday\, November 22nd\, 2021 and concludes on Wednesday\, November 24th\, 2021 from either 9:00am-5:00pm or 9:00am-1:00pm. Tuition is $240. TexARTS' musical theater holiday camps are a fun foray into the world of theater! Our camps are led by professional teaching artists from throughout the Austin area and who coach students in acting\, singing\, and dance. Students ages 5-14 will learn songs\, scenes\, and dances to their favorite hits from the theme of the camp. For more information or to enroll visit www.tex-arts.org or call (512) 852-9079x104.
X-ALT-DESC;FMTTYPE=text/html:This is &ldquo\;The Descendants&rdquo\; at TexARTS! Join us for an awesome day of singing\, acting\, and dancing with our Best of The Descendants musical theater camp. This is a three day school holiday camp that begins on Monday\, November 22nd\, 2021 and concludes on Wednesday\, November 24th\, 2021 from either 9:00am-5:00pm or 9:00am-1:00pm. Tuition is $240. TexARTS&#39\; musical theater holiday camps are a fun foray into the world of theater! Our camps are led by professional teaching artists from throughout the Austin area and who coach students in acting\, singing\, and dance. Students ages 5-14 will learn songs\, scenes\, and dances to their favorite hits from the theme of the camp. For more information or to enroll visit www.tex-arts.org or call (512) 852-9079x104.
LOCATION:TexARTS Association
UID:e.2123.10925
SEQUENCE:3
DTSTAMP:20260424T071651Z
URL:https://laketravischamberfest.com/events/details/musical-theatre-holiday-camp-10925
END:VEVENT

END:VCALENDAR
