BEGIN:VCALENDAR
VERSION:2.0
PRODID:-//ChamberMaster//Event Calendar 2.0//EN
METHOD:PUBLISH
X-PUBLISHED-TTL:P3D
REFRESH-INTERVAL:P3D
CALSCALE:GREGORIAN
BEGIN:VEVENT
DTSTART:20180327T153000Z
DTEND:20180327T170000Z
X-MICROSOFT-CDO-ALLDAYEVENT:FALSE
SUMMARY:Moving Made Easy- Navigating Senior Care and Housing
DESCRIPTION:Join Belmont Village of Lakeway for this informative seminar on senior care and housing. We'll discuss how to identify when living at home is no longer an option\, what to look for in a senior living community\, understanding the care continuum\, and how to make the move and clear the clutter. Light refreshments will be served. RSVP to 512-402-1800. Coming to Lakeway this summer\, Belmont Village is a premier Senior Living provider. Call today to learn more. SPEAKERS: Christy Christine\, MBA Community Relations\, Belmont Village Lakeway Christy is an Argentum certified senior living sales counselor with 20+ years of experience in helping seniors and families define their next chapter and find the right care and lifestyle fit for their needs. Zachary Baker Owner\, Arranging It All Zach is a certified senior move manager who has helped more than 750 families navigate the world of senior living. His company\, Arranging it All\, helps older adults thoughtfully downsize and relocate.
X-ALT-DESC;FMTTYPE=text/html:Join Belmont Village of Lakeway for this informative seminar on senior care and housing. We&rsquo\;ll discuss how to identify when living at home is no longer an option\, what to look for in a senior living community\, understanding the care continuum\, and how to make the move and clear the clutter. Light refreshments will be served. RSVP to 512-402-1800. Coming to Lakeway this summer\, Belmont Village is a premier Senior Living provider. Call today to learn more. SPEAKERS: Christy Christine\, MBA Community Relations\, Belmont Village Lakeway Christy is an Argentum certified senior living sales counselor with 20+ years of experience in helping seniors and families define their next chapter and find the right care and lifestyle fit for their needs. Zachary Baker Owner\, Arranging It All Zach is a certified senior move manager who has helped more than 750 families navigate the world of senior living. His company\, Arranging it All\, helps older adults thoughtfully downsize and relocate.
LOCATION:Lake Travis Community Library 1938 Lohmans Crossing Austin\, Texas 78734
UID:e.2123.9611
SEQUENCE:3
DTSTAMP:20260421T144652Z
URL:https://laketravischamberfest.com/events/details/moving-made-easy-navigating-senior-care-and-housing-9611
END:VEVENT

END:VCALENDAR
