BEGIN:VCALENDAR
VERSION:2.0
PRODID:-//ChamberMaster//Event Calendar 2.0//EN
METHOD:PUBLISH
X-PUBLISHED-TTL:P3D
REFRESH-INTERVAL:P3D
CALSCALE:GREGORIAN
BEGIN:VEVENT
DTSTART:20180327T153000Z
DTEND:20180327T163000Z
X-MICROSOFT-CDO-ALLDAYEVENT:FALSE
SUMMARY:Moving Made Easy: Navigating and Understanding Senior Care and Housing
DESCRIPTION:Moving Made Easy: Navigating and Understanding Senior Care and Housing - Tuesday\, March 27th at 10:30am - This presentation will help you to understand types of senior housing\, care options\, and when to make a change\, as well as costs and resources.
X-ALT-DESC;FMTTYPE=text/html:Moving Made Easy: Navigating and Understanding Senior Care and Housing - Tuesday\, March 27th at 10:30am - This presentation will help you to understand types of senior housing\, care options\, and when to make a change\, as well as costs and resources.
LOCATION:Lake Travis Community Library 1938 Lohmans Crossing Austin\, Texas 78734
UID:e.2123.9574
SEQUENCE:3
DTSTAMP:20260421T160837Z
URL:https://laketravischamberfest.com/events/details/moving-made-easy-navigating-and-understanding-senior-care-and-housing-9574
END:VEVENT

END:VCALENDAR
