BEGIN:VCALENDAR
VERSION:2.0
PRODID:-//ChamberMaster//Event Calendar 2.0//EN
METHOD:PUBLISH
X-PUBLISHED-TTL:P3D
REFRESH-INTERVAL:P3D
CALSCALE:GREGORIAN
BEGIN:VEVENT
DTSTART:20200601T173000Z
DTEND:20200601T220000Z
X-MICROSOFT-CDO-ALLDAYEVENT:FALSE
SUMMARY:Movement & Strenght Course
DESCRIPTION:Led by MYPLAYER2PLAYER coaches and local adult trainers\, MYPLAYER2PLAYER is now offering a Movement & Strength Course each week of June. Train like the Lake Travis P2P student athlete coaches train in the summertime. Open to 6th-8th graders - build overall athleticism and stay in tip-top shape over the summer. There are options for a MWF course or a TTH course. Male and female athletes will work on weight training\, speed and agility.
X-ALT-DESC;FMTTYPE=text/html:Led by MYPLAYER2PLAYER coaches and local adult trainers\, MYPLAYER2PLAYER is now offering a Movement &amp\; Strength Course each week of June. Train like the Lake Travis P2P student athlete coaches train in the summertime. Open to 6th-8th graders - build overall athleticism and stay in tip-top shape over the summer. There are options for a MWF course or a TTH course. Male and female athletes will work on weight training\, speed and agility.
LOCATION:Austin Tumbling Academy
UID:e.2123.10116
SEQUENCE:3
DTSTAMP:20260423T072631Z
URL:https://laketravischamberfest.com/events/details/movement-strenght-course-10116
END:VEVENT

END:VCALENDAR
