BEGIN:VCALENDAR
VERSION:2.0
PRODID:-//ChamberMaster//Event Calendar 2.0//EN
METHOD:PUBLISH
X-PUBLISHED-TTL:P3D
REFRESH-INTERVAL:P3D
CALSCALE:GREGORIAN
BEGIN:VEVENT
DTSTART:20190911T230000Z
DTEND:20190912T013000Z
X-MICROSOFT-CDO-ALLDAYEVENT:FALSE
SUMMARY:Move your Retirement Funds from Forever Taxed to Never Taxed! with Ed Slott
DESCRIPTION:Please Join Us FOR AN ELEGANT AND EDUCATIONAL DINING EVENT Attend this COMPLIMENTARY event and... Discover how you may be able to reduce\, or potentially eliminate manageable taxes in retirement. Including how to receive tax-free Social Security income for life! Why and how tax rates can go up\, not down\, in retirement. How to avoid some of the most common and costly tax mistakes many Americans make in retirement. Act now to take full advantage of temporary tax laws\, rules and rates before time runs out! - The 2017 Tax Cuts and Jobs Act is the most sweeping update to the U.S. tax code in more than 30 years! And more!
X-ALT-DESC;FMTTYPE=text/html:Please Join Us FOR AN ELEGANT AND EDUCATIONAL DINING EVENT Attend this COMPLIMENTARY event and... Discover how you may be able to reduce\, or potentially eliminate manageable taxes in retirement. Including how to receive tax-free Social Security income for life! Why and how tax rates can go up\, not down\, in retirement. How to avoid some of the most common and costly tax mistakes many Americans make in retirement. Act now to take full advantage of temporary tax laws\, rules and rates before time runs out! - The 2017 Tax Cuts and Jobs Act is the most sweeping update to the U.S. tax code in more than 30 years! And more!
LOCATION:Omni Barton Creek Resort and Spa 8212 Barton Club Dr\, Austin\, TX 78735
UID:e.2123.9985
SEQUENCE:3
DTSTAMP:20260422T182036Z
URL:https://laketravischamberfest.com/events/details/move-your-retirement-funds-from-forever-taxed-to-never-taxed-with-ed-slott-9985
END:VEVENT

END:VCALENDAR
