BEGIN:VCALENDAR
VERSION:2.0
PRODID:-//ChamberMaster//Event Calendar 2.0//EN
METHOD:PUBLISH
X-PUBLISHED-TTL:P3D
REFRESH-INTERVAL:P3D
CALSCALE:GREGORIAN
BEGIN:VEVENT
DTSTART:20180513T160000Z
DTEND:20180513T190000Z
X-MICROSOFT-CDO-ALLDAYEVENT:FALSE
SUMMARY:Mother's Day Brunch 2018 at Lakeway Resort
DESCRIPTION:Lakeway Resort will host a Mother's Day Brunch at TR Restaurant & Lounge on Sunday\, May 13 from 11:00 a.m. - 2:00 p.m.\, offering guests beautiful views of Lake Travis and an assortment of menu options that include but are not limited to:  Classic Breakfast Options   made to order omelets\, breakfast buffet\, assorted pastries  Assorted Seasonal Heirloom Cherry Tomatoes - With buffalo mozzarella\, basil dressing\, balsamic glaze and micro greens  Smoked Brisket   House smoked for twenty-two hours\, cherry chipotle BBQ sauce  Salmon   Salmon en croute\, spinach and fennel\, creole mustard sauce  Seared Chicken Breast   Stuffed tomato\, demi and kalamata olives  Croissant Bread Pudding   Whiskey Vanilla Sauce Please see full menu options here: https://www.lakewayresortandspa.com/resourcefiles/pdf/tr-mothers-day-menu-2018.pdf
X-ALT-DESC;FMTTYPE=text/html:Lakeway Resort will host a Mother&#39\;s Day Brunch at TR Restaurant &amp\; Lounge on Sunday\, May 13 from 11:00 a.m. - 2:00 p.m.\, offering guests beautiful views of Lake Travis and an assortment of menu options that include but are not limited to: &bull\;Classic Breakfast Options &ndash\; made to order omelets\, breakfast buffet\, assorted pastries &bull\;Assorted Seasonal Heirloom Cherry Tomatoes - With buffalo mozzarella\, basil dressing\, balsamic glaze and micro greens &bull\;Smoked Brisket &ndash\; House smoked for twenty-two hours\, cherry chipotle BBQ sauce &bull\;Salmon &ndash\; Salmon en croute\, spinach and fennel\, creole mustard sauce &bull\;Seared Chicken Breast &ndash\; Stuffed tomato\, demi and kalamata olives &bull\;Croissant Bread Pudding &ndash\; Whiskey Vanilla Sauce Please see full menu options here: https://www.lakewayresortandspa.com/resourcefiles/pdf/tr-mothers-day-menu-2018.pdf
LOCATION:Lakeway Resort & Spa 101 Lakeway Dr\, Lakeway\, Texas 78734
UID:e.2123.9619
SEQUENCE:3
DTSTAMP:20260421T180220Z
URL:https://laketravischamberfest.com/events/details/mother-s-day-brunch-2018-at-lakeway-resort-9619
END:VEVENT

END:VCALENDAR
