BEGIN:VCALENDAR
VERSION:2.0
PRODID:-//ChamberMaster//Event Calendar 2.0//EN
METHOD:PUBLISH
X-PUBLISHED-TTL:P3D
REFRESH-INTERVAL:P3D
CALSCALE:GREGORIAN
BEGIN:VEVENT
DTSTART:20250506T210000Z
DTEND:20250507T000000Z
X-MICROSOFT-CDO-ALLDAYEVENT:FALSE
SUMMARY:Mission Capital Board Summit 2025
DESCRIPTION:Board Summit\, hosted by Mission Capital\, connects individuals interested in nonprofit board service with Central Texas nonprofits looking to recruit for positions and build diverse\, inclusive boards. Over 50 nonprofits\, with a wide range of missions\, will have tables at the Board Summit. Aspiring board members are encouraged to visit these tables to learn more about the organizations and openings they aim to fill. Join us for a day of connection and inspiring discussions designed to create lasting partnerships that strengthen our vibrant community.
X-ALT-DESC;FMTTYPE=text/html:Board Summit\, hosted by Mission Capital\, connects individuals interested in nonprofit board service with Central Texas nonprofits looking to recruit for positions and build diverse\, inclusive boards. Over 50 nonprofits\, with a wide range of missions\, will have tables at the Board Summit. Aspiring board members are encouraged to visit these tables to learn more about the organizations and openings they aim to fill. Join us for a day of connection and inspiring discussions designed to create lasting partnerships that strengthen our vibrant community.
LOCATION:City of Austin Permitting and Development Center (6310 Wilhelmina Delco Drive\, Austin\, Texas 78752)
UID:e.2123.12825
SEQUENCE:3
DTSTAMP:20260421T174923Z
URL:https://laketravischamberfest.com/events/details/mission-capital-board-summit-2025-12825
END:VEVENT

END:VCALENDAR
