BEGIN:VCALENDAR
VERSION:2.0
PRODID:-//ChamberMaster//Event Calendar 2.0//EN
METHOD:PUBLISH
X-PUBLISHED-TTL:P3D
REFRESH-INTERVAL:P3D
CALSCALE:GREGORIAN
BEGIN:VEVENT
DTSTART:20190222T020000Z
DTEND:20190222T040000Z
X-MICROSOFT-CDO-ALLDAYEVENT:FALSE
SUMMARY:Mirrors
DESCRIPTION:When 17 year-old Alma Jean finds her mother dead\, she must pack up her life and move in with her mother's ex-lover\, a woman she doesn't know. Her new guardian\, Bird Wilson\, is the town pariah and unused to sharing her home. Will mourning the death of a shared loved one bring Alma Jean and Bird together or push them further apart?
X-ALT-DESC;FMTTYPE=text/html:When 17 year-old Alma Jean finds her mother dead\, she must pack up her life and move in with her mother&rsquo\;s ex-lover\, a woman she doesn&rsquo\;t know. Her new guardian\, Bird Wilson\, is the town pariah and unused to sharing her home. Will mourning the death of a shared loved one bring Alma Jean and Bird together or push them further apart?
LOCATION:Austin Scottish Rite Theater 207 W 18th St. Austin\, TX 78701
UID:e.2123.9813
SEQUENCE:3
DTSTAMP:20260422T071735Z
URL:https://laketravischamberfest.com/events/details/mirrors-9813
END:VEVENT

END:VCALENDAR
