BEGIN:VCALENDAR
VERSION:2.0
PRODID:-//ChamberMaster//Event Calendar 2.0//EN
METHOD:PUBLISH
X-PUBLISHED-TTL:P3D
REFRESH-INTERVAL:P3D
CALSCALE:GREGORIAN
BEGIN:VEVENT
DTSTART:20190406T000000Z
DTEND:20190406T023000Z
X-MICROSOFT-CDO-ALLDAYEVENT:FALSE
SUMMARY:Mike and the Moonpies Play Spicewood April 5
DESCRIPTION:Mike and the Moonpies celebrate working class heroes and may be the hardest working band in Austin. Playing danceable music which deeply connects to life as we know it\, the band is as Texan as country-fried steak.They just released the latest of five albums\, "Steak Night at the Prairie Rose." Tickets ($35) at www.spicewoodarts.org. For more about the Moonpies\, see www.themoonpies.com/
X-ALT-DESC;FMTTYPE=text/html:Mike and the Moonpies celebrate working class heroes and may be the hardest working band in Austin. Playing danceable music which deeply connects to life as we know it\, the band is as Texan as country-fried steak.They just released the latest of five albums\, &ldquo\;Steak Night at the Prairie Rose.&rdquo\; Tickets ($35) at www.spicewoodarts.org. For more about the Moonpies\, see www.themoonpies.com/
LOCATION:Spicewood Vineyards Event Center 1419 Co. Rd. 409 Spicewood TX 78669
UID:e.2123.9859
SEQUENCE:3
DTSTAMP:20260422T110436Z
URL:https://laketravischamberfest.com/events/details/mike-and-the-moonpies-play-spicewood-april-5-9859
END:VEVENT

END:VCALENDAR
