BEGIN:VCALENDAR
VERSION:2.0
PRODID:-//ChamberMaster//Event Calendar 2.0//EN
METHOD:PUBLISH
X-PUBLISHED-TTL:P3D
REFRESH-INTERVAL:P3D
CALSCALE:GREGORIAN
BEGIN:VEVENT
DTSTART:20191025T230000Z
DTEND:20191026T010000Z
X-MICROSOFT-CDO-ALLDAYEVENT:FALSE
SUMMARY:Mediterranean Appetizers & Wine Styles-A Taste of Italy-Bee Cave
DESCRIPTION:Join us for a very special Mediterranean cooking class with Sommelier and Chef Pier Giorgio Manna! He has owned and operated several restaurants in northern Italy\, for approximately 25 years. Chef Pier will take you on a journey through Italy with the following dishes: 3 Flour Focaccia Bread Barley Salad Risotto with Asparagus Summer Peaches with White Wine Sauce This menu will be accompanied with two glasses of special wines chosen by Pier and marcona almonds & olives. At this demonstration class\, attendees will enjoy eating all of the delicious dishes while learning about the history of the food\, and the wine!
X-ALT-DESC;FMTTYPE=text/html:Join us for a very special Mediterranean cooking class with Sommelier and Chef Pier Giorgio Manna! He has owned and operated several restaurants in northern Italy\, for approximately 25 years. Chef Pier will take you on a journey through Italy with the following dishes: 3 Flour Focaccia Bread Barley Salad Risotto with Asparagus Summer Peaches with White Wine Sauce This menu will be accompanied with two glasses of special wines chosen by Pier and marcona almonds &amp\; olives. At this demonstration class\, attendees will enjoy eating all of the delicious dishes while learning about the history of the food\, and the wine!
LOCATION:3500 FM 620 S Ste F400\, Ste F400\, Bee Cave\, TX 78738
UID:e.2123.9976
SEQUENCE:3
DTSTAMP:20260422T194939Z
URL:https://laketravischamberfest.com/events/details/mediterranean-appetizers-wine-styles-a-taste-of-italy-bee-cave-10-25-2019-9976
END:VEVENT

END:VCALENDAR
